BEGIN:VCALENDAR
VERSION:2.0
PRODID:-//Library Market//iCal Export//EN
BEGIN:VEVENT
SUMMARY:Stress Less
UID:78741
DTSTAMP:20260421T223400Z
DTSTART:20260616T220000Z
DTEND:20260616T233000Z
LOCATION:Sayville Library, 88 Greene Ave., Sayville, NY 11782, United Stat
 es
ROOM: Meeting Rooms A/B
DESCRIPTION:Join us for this informative workshop on how to manage stressĀ
  
URL:https://www.sayvillelibrary.org/event/stress-less-78741
END:VEVENT
END:VCALENDAR
