BEGIN:VCALENDAR
VERSION:2.0
PRODID:-//Library Market//iCal Export//EN
BEGIN:VEVENT
SUMMARY:Northwell Health: Spine health
UID:81544
DTSTAMP:20260421T204800Z
DTSTART:20260609T220000Z
DTEND:20260609T233000Z
LOCATION:Sayville Library, 88 Greene Ave., Sayville, NY 11782, United Stat
 es
ROOM: Meeting Rooms A/B
DESCRIPTION:Experts from South Shore University Hospital will talk to us a
 bout keeping our spine strong and treatment options available.
URL:https://www.sayvillelibrary.org/event/northwell-health-hip-knee-progra
 m-81544
END:VEVENT
END:VCALENDAR
