BEGIN:VCALENDAR
VERSION:2.0
PRODID:-//Library Market//iCal Export//EN
BEGIN:VEVENT
SUMMARY:Suffolk County Community College Information Table
UID:81811
DTSTAMP:20260421T010200Z
DTSTART:20260610T200000Z
DTEND:20260610T230000Z
LOCATION:Sayville Library, 88 Greene Ave., Sayville, NY 11782, United Stat
 es
ROOM: Lobby
DESCRIPTION:Suffolk County Community College offers many degree and certif
 icate programs! Speak with College representatives in our lobby – bring 
 your questions!
URL:https://www.sayvillelibrary.org/event/suffolk-county-community-college
 -information-table-81811
END:VEVENT
END:VCALENDAR
