BEGIN:VCALENDAR
VERSION:2.0
PRODID:-//Library Market//iCal Export//EN
BEGIN:VEVENT
SUMMARY:Shed the Meds with Suffolk County Police Department
UID:81844
DTSTAMP:20260421T223400Z
DTSTART:20260620T150000Z
DTEND:20260620T180000Z
LOCATION:Sayville Library, 88 Greene Ave., Sayville, NY 11782, United Stat
 es
ROOM: Lobby
DESCRIPTION:Bring your expired, unused prescription medications and the Su
 ffolk County Police Department will dispose of them for you! No needles or
  liquids accepted.
URL:https://www.sayvillelibrary.org/event/shed-meds-suffolk-county-police-
 department-81844
END:VEVENT
END:VCALENDAR
