BEGIN:VCALENDAR
VERSION:2.0
PRODID:-//Library Market//iCal Export//EN
BEGIN:VEVENT
SUMMARY:PSEGLI Information Table
UID:82569
DTSTAMP:20260421T205800Z
DTSTART:20260611T150000Z
DTEND:20260611T180000Z
LOCATION:Sayville Library, 88 Greene Ave., Sayville, NY 11782, United Stat
 es
ROOM: Lobby
DESCRIPTION:PSE&amp;G Long Island will be here with information on program
 s to help lower costs of your home heating bill if you qualify. Stop by an
 d speak with representatives about possible home heating assistance progra
 ms.
URL:https://www.sayvillelibrary.org/event/psegli-information-table-82569
END:VEVENT
END:VCALENDAR
