BEGIN:VCALENDAR
VERSION:2.0
PRODID:-//Library Market//iCal Export//EN
BEGIN:VEVENT
SUMMARY:Morning Tai Chi--MAKE-UP DATE
UID:83093
DTSTAMP:20260422T044900Z
DTSTART:20260715T150000Z
DTEND:20260715T160000Z
LOCATION:Sayville Library, 88 Greene Ave., Sayville, NY 11782, United Stat
 es
ROOM: Meeting Rooms A/B
DESCRIPTION:Join Linda Bohman to get your day started off right with Tai C
 hi!Nonrefundable Fee: $20 check, money order or credit/debit card.  
URL:https://www.sayvillelibrary.org/event/morning-tai-chi-make-date-83093
END:VEVENT
END:VCALENDAR
