BEGIN:VCALENDAR
VERSION:2.0
PRODID:-//Library Market//iCal Export//EN
BEGIN:VEVENT
SUMMARY:Walk in tech help!
UID:83148
DTSTAMP:20260419T150400Z
DTSTART:20260427T200000Z
DTEND:20260427T210000Z
LOCATION:Sayville Library, 88 Greene Ave., Sayville, NY 11782, United Stat
 es
ROOM: The Makery (Makerspace)
DESCRIPTION:Get your tech questions answered or start a new craft today!
URL:https://www.sayvillelibrary.org/event/walk-tech-help-83148
END:VEVENT
END:VCALENDAR
