BEGIN:VCALENDAR
VERSION:2.0
PRODID:-//Library Market//iCal Export//EN
BEGIN:VEVENT
SUMMARY:Sisters of St Joseph
UID:83161
DTSTAMP:20260423T023500Z
DTSTART:20260607T190000Z
DTEND:20260607T203000Z
LOCATION:Sayville Library, 88 Greene Ave., Sayville, NY 11782, United Stat
 es
ROOM: Meeting Room C
DESCRIPTION:Theological Group - Study and discussion of theological ideas 
 and traditions over time.
URL:https://www.sayvillelibrary.org/event/sisters-st-joseph-83161
END:VEVENT
END:VCALENDAR
