BEGIN:VCALENDAR
VERSION:2.0
PRODID:-//Library Market//iCal Export//EN
BEGIN:VEVENT
SUMMARY:3D Printed Lightsaber Pencil Topper
UID:83218
DTSTAMP:20260422T084200Z
DTSTART:20260507T193000Z
DTEND:20260507T203000Z
LOCATION:Sayville Library, 88 Greene Ave., Sayville, NY 11782, United Stat
 es
ROOM: The Makery (Makerspace)
DESCRIPTION:Design your own, custom lightsaber pencil toppers in TinkerCAD
  for Star Wars Day! Basic computer skills required.
URL:https://www.sayvillelibrary.org/event/3d-printed-lightsaber-pencil-top
 per-83218
END:VEVENT
END:VCALENDAR
