BEGIN:VCALENDAR
VERSION:2.0
PRODID:-//Library Market//iCal Export//EN
BEGIN:VEVENT
SUMMARY:Girl Scout Troop 1381
UID:83220
DTSTAMP:20260423T040900Z
DTSTART:20260614T171500Z
DTEND:20260614T190000Z
LOCATION:Sayville Library, 88 Greene Ave., Sayville, NY 11782, United Stat
 es
ROOM: Meeting Room C
DESCRIPTION:Troop Meeting
URL:https://www.sayvillelibrary.org/event/girl-scout-troop-1381-83220
END:VEVENT
END:VCALENDAR
