BEGIN:VCALENDAR
VERSION:2.0
PRODID:-//Library Market//iCal Export//EN
BEGIN:VEVENT
SUMMARY:The Neighborhood House
UID:83272
DTSTAMP:20260421T155500Z
DTSTART:20260716T220000Z
DTEND:20260717T000000Z
LOCATION:Sayville Library, 88 Greene Ave., Sayville, NY 11782, United Stat
 es
ROOM: Portico Room
DESCRIPTION:Connections Group-Bereavement Group for Family members and fri
 ends who have lost a loved one to suicide or drug overdose.
URL:https://www.sayvillelibrary.org/event/neighborhood-house-83272
END:VEVENT
END:VCALENDAR
