BEGIN:VCALENDAR
VERSION:2.0
PRODID:-//Library Market//iCal Export//EN
BEGIN:VEVENT
SUMMARY:Kiwanis Club of Sayville
UID:83284
DTSTAMP:20260422T012700Z
DTSTART:20260505T220000Z
DTEND:20260506T004500Z
LOCATION:Sayville Library, 88 Greene Ave., Sayville, NY 11782, United Stat
 es
ROOM: Meeting Room C
DESCRIPTION:Meeting of Members
URL:https://www.sayvillelibrary.org/event/kiwanis-club-sayville-83284
END:VEVENT
END:VCALENDAR
