BEGIN:VCALENDAR
VERSION:2.0
PRODID:-//Library Market//iCal Export//EN
BEGIN:VEVENT
SUMMARY:Sayville-America 250
UID:83298
DTSTAMP:20260424T185100Z
DTSTART:20260422T220000Z
DTEND:20260422T223000Z
LOCATION:Sayville Library, 88 Greene Ave., Sayville, NY 11782, United Stat
 es
ROOM: Meeting Room C
DESCRIPTION:Sayville-America 250 planning meeting.
URL:https://www.sayvillelibrary.org/event/sayville-america-250-83298
END:VEVENT
END:VCALENDAR
