BEGIN:VCALENDAR
VERSION:2.0
PRODID:-//Library Market//iCal Export//EN
BEGIN:VEVENT
SUMMARY:Wet Pants Sailing Association
UID:83300
DTSTAMP:20260424T185100Z
DTSTART:20260422T220000Z
DTEND:20260422T230000Z
LOCATION:Sayville Library, 88 Greene Ave., Sayville, NY 11782, United Stat
 es
ROOM: Conference Room
DESCRIPTION:
URL:https://www.sayvillelibrary.org/node/83300
END:VEVENT
END:VCALENDAR
