BEGIN:VCALENDAR
VERSION:2.0
PRODID:-//Library Market//iCal Export//EN
BEGIN:VEVENT
SUMMARY:Aidwell Healthcare
UID:83311
DTSTAMP:20260424T155100Z
DTSTART:20260424T140000Z
DTEND:20260424T163000Z
LOCATION:Sayville Library, 88 Greene Ave., Sayville, NY 11782, United Stat
 es
ROOM: Portico Room
DESCRIPTION:Social work meeting.
URL:https://www.sayvillelibrary.org/event/aidwell-healthcare-83311
END:VEVENT
END:VCALENDAR
